BEGIN:VCALENDAR
VERSION:2.0
PRODID:-//P.E.A.S.E. Academy - ECPv6.15.20//NONSGML v1.0//EN
CALSCALE:GREGORIAN
METHOD:PUBLISH
X-WR-CALNAME:P.E.A.S.E. Academy
X-ORIGINAL-URL:https://mtcs.org/pease
X-WR-CALDESC:Events for P.E.A.S.E. Academy
REFRESH-INTERVAL;VALUE=DURATION:PT1H
X-Robots-Tag:noindex
X-PUBLISHED-TTL:PT1H
BEGIN:VTIMEZONE
TZID:America/Chicago
BEGIN:DAYLIGHT
TZOFFSETFROM:-0600
TZOFFSETTO:-0500
TZNAME:CDT
DTSTART:20240310T080000
END:DAYLIGHT
BEGIN:STANDARD
TZOFFSETFROM:-0500
TZOFFSETTO:-0600
TZNAME:CST
DTSTART:20241103T070000
END:STANDARD
BEGIN:DAYLIGHT
TZOFFSETFROM:-0600
TZOFFSETTO:-0500
TZNAME:CDT
DTSTART:20250309T080000
END:DAYLIGHT
BEGIN:STANDARD
TZOFFSETFROM:-0500
TZOFFSETTO:-0600
TZNAME:CST
DTSTART:20251102T070000
END:STANDARD
BEGIN:DAYLIGHT
TZOFFSETFROM:-0600
TZOFFSETTO:-0500
TZNAME:CDT
DTSTART:20260308T080000
END:DAYLIGHT
BEGIN:STANDARD
TZOFFSETFROM:-0500
TZOFFSETTO:-0600
TZNAME:CST
DTSTART:20261101T070000
END:STANDARD
BEGIN:DAYLIGHT
TZOFFSETFROM:-0600
TZOFFSETTO:-0500
TZNAME:CDT
DTSTART:20270314T080000
END:DAYLIGHT
BEGIN:STANDARD
TZOFFSETFROM:-0500
TZOFFSETTO:-0600
TZNAME:CST
DTSTART:20271107T070000
END:STANDARD
END:VTIMEZONE
BEGIN:VEVENT
DTSTART;TZID=America/Chicago:20260303T180000
DTEND;TZID=America/Chicago:20260303T200000
DTSTAMP:20260421T202910
CREATED:20250326T144136Z
LAST-MODIFIED:20250326T144136Z
UID:16899-1772560800-1772568000@mtcs.org
SUMMARY:Parents of P.E.A.S.E. Support Group
DESCRIPTION:Monthly Parents of P.E.A.S.E. (POP) Counseling Session with our Licensed Therapist. Meet with our contracted Therapist and other parents to discuss issues and garner support associated with raising teens in recovery.
URL:https://mtcs.org/pease/calendar/parents-of-p-e-a-s-e-support-group-18/
END:VEVENT
BEGIN:VEVENT
DTSTART;TZID=America/Chicago:20260216T080000
DTEND;TZID=America/Chicago:20260216T170000
DTSTAMP:20260421T202910
CREATED:20250326T185441Z
LAST-MODIFIED:20250326T185441Z
UID:16971-1771228800-1771261200@mtcs.org
SUMMARY:Presidents' Day--No School
DESCRIPTION:
URL:https://mtcs.org/pease/calendar/presidents-day-no-school-10/
END:VEVENT
BEGIN:VEVENT
DTSTART;TZID=America/Chicago:20260203T180000
DTEND;TZID=America/Chicago:20260203T200000
DTSTAMP:20260421T202910
CREATED:20250326T144228Z
LAST-MODIFIED:20250326T144228Z
UID:16901-1770141600-1770148800@mtcs.org
SUMMARY:Parents of P.E.A.S.E. Support Group
DESCRIPTION:Monthly Parents of P.E.A.S.E. (POP) Counseling Session with our Licensed Therapist. Meet with our contracted Therapist and other parents to discuss issues and garner support associated with raising teens in recovery.
URL:https://mtcs.org/pease/calendar/parents-of-p-e-a-s-e-support-group-19/
END:VEVENT
BEGIN:VEVENT
DTSTART;TZID=America/Chicago:20260122T083000
DTEND;TZID=America/Chicago:20260122T152000
DTSTAMP:20260421T202910
CREATED:20250326T185323Z
LAST-MODIFIED:20250326T185323Z
UID:16969-1769070600-1769095200@mtcs.org
SUMMARY:Quarter 3 Starts
DESCRIPTION:
URL:https://mtcs.org/pease/calendar/quarter-3-starts-3/
END:VEVENT
BEGIN:VEVENT
DTSTART;TZID=America/Chicago:20260121T080000
DTEND;TZID=America/Chicago:20260121T160000
DTSTAMP:20260421T202910
CREATED:20250326T145619Z
LAST-MODIFIED:20250326T145619Z
UID:16915-1768982400-1769011200@mtcs.org
SUMMARY:Professional Development--No Students
DESCRIPTION:
URL:https://mtcs.org/pease/calendar/professional-development-no-students-18/
END:VEVENT
BEGIN:VEVENT
DTSTART;TZID=America/Chicago:20260120T080000
DTEND;TZID=America/Chicago:20260120T170000
DTSTAMP:20260421T202910
CREATED:20250326T185238Z
LAST-MODIFIED:20250326T185238Z
UID:16967-1768896000-1768928400@mtcs.org
SUMMARY:Teacher Grading Day--No Students
DESCRIPTION:
URL:https://mtcs.org/pease/calendar/teacher-grading-day-no-students/
END:VEVENT
BEGIN:VEVENT
DTSTART;TZID=America/Chicago:20260119T080000
DTEND;TZID=America/Chicago:20260119T170000
DTSTAMP:20260421T202910
CREATED:20250326T185202Z
LAST-MODIFIED:20250326T185202Z
UID:16965-1768809600-1768842000@mtcs.org
SUMMARY:Dr. Martin Luther King Jr. Day--No School
DESCRIPTION:
URL:https://mtcs.org/pease/calendar/dr-martin-luther-king-jr-day-no-school-2/
END:VEVENT
BEGIN:VEVENT
DTSTART;TZID=America/Chicago:20260116T080000
DTEND;TZID=America/Chicago:20260116T170000
DTSTAMP:20260421T202910
CREATED:20250326T185117Z
LAST-MODIFIED:20250326T185117Z
UID:16963-1768550400-1768582800@mtcs.org
SUMMARY:End of Quarter 2
DESCRIPTION:
URL:https://mtcs.org/pease/calendar/end-of-quarter-2-6/
END:VEVENT
BEGIN:VEVENT
DTSTART;TZID=America/Chicago:20260106T180000
DTEND;TZID=America/Chicago:20260106T200000
DTSTAMP:20260421T202910
CREATED:20250326T144310Z
LAST-MODIFIED:20250326T144310Z
UID:16903-1767722400-1767729600@mtcs.org
SUMMARY:Parents of P.E.A.S.E. Support Group
DESCRIPTION:Monthly Parents of P.E.A.S.E. (POP) Counseling Session with our Licensed Therapist. Meet with our contracted Therapist and other parents to discuss issues and garner support associated with raising teens in recovery.
URL:https://mtcs.org/pease/calendar/parents-of-p-e-a-s-e-support-group-20/
END:VEVENT
BEGIN:VEVENT
DTSTART;TZID=America/Chicago:20260105T080000
DTEND;TZID=America/Chicago:20260105T170000
DTSTAMP:20260421T202910
CREATED:20250326T185041Z
LAST-MODIFIED:20250326T185041Z
UID:16961-1767600000-1767632400@mtcs.org
SUMMARY:School Resumes
DESCRIPTION:8:30 a.m.
URL:https://mtcs.org/pease/calendar/school-resumes-7/
END:VEVENT
BEGIN:VEVENT
DTSTART;VALUE=DATE:20251222
DTEND;VALUE=DATE:20260103
DTSTAMP:20260421T202910
CREATED:20250326T185008Z
LAST-MODIFIED:20250326T185008Z
UID:16959-1766361600-1767398399@mtcs.org
SUMMARY:Winter Break--No School
DESCRIPTION:
URL:https://mtcs.org/pease/calendar/winter-break-no-school-10/
END:VEVENT
BEGIN:VEVENT
DTSTART;TZID=America/Chicago:20251202T180000
DTEND;TZID=America/Chicago:20251202T200000
DTSTAMP:20260421T202910
CREATED:20250326T144357Z
LAST-MODIFIED:20250326T144357Z
UID:16905-1764698400-1764705600@mtcs.org
SUMMARY:Parents of P.E.A.S.E. Support Group
DESCRIPTION:Monthly Parents of P.E.A.S.E. (POP) Counseling Session with our Licensed Therapist. Meet with our contracted Therapist and other parents to discuss issues and garner support associated with raising teens in recovery.
URL:https://mtcs.org/pease/calendar/parents-of-p-e-a-s-e-support-group-21/
END:VEVENT
BEGIN:VEVENT
DTSTART;VALUE=DATE:20251127
DTEND;VALUE=DATE:20251129
DTSTAMP:20260421T202910
CREATED:20250326T184920Z
LAST-MODIFIED:20250326T184920Z
UID:16957-1764201600-1764374399@mtcs.org
SUMMARY:Fall Break--No School
DESCRIPTION:
URL:https://mtcs.org/pease/calendar/fall-break-no-school-6/
END:VEVENT
BEGIN:VEVENT
DTSTART;TZID=America/Chicago:20251126T080000
DTEND;TZID=America/Chicago:20251126T170000
DTSTAMP:20260421T202910
CREATED:20250326T165030Z
LAST-MODIFIED:20250326T165030Z
UID:16926-1764144000-1764176400@mtcs.org
SUMMARY:Professional Development--No Students
DESCRIPTION:
URL:https://mtcs.org/pease/calendar/professional-development-no-students-19/
END:VEVENT
BEGIN:VEVENT
DTSTART;TZID=America/Chicago:20251125T120000
DTEND;TZID=America/Chicago:20251125T152000
DTSTAMP:20260421T202910
CREATED:20250326T164927Z
LAST-MODIFIED:20250326T164927Z
UID:16923-1764072000-1764084000@mtcs.org
SUMMARY:Recovery Revival
DESCRIPTION:Special programming during the school day to reinvigorate students in regards to their recovery and help them plan for the holiday season\, including Winter Break.
URL:https://mtcs.org/pease/calendar/recovery-revival-10/
END:VEVENT
BEGIN:VEVENT
DTSTART;TZID=America/Chicago:20251104T180000
DTEND;TZID=America/Chicago:20251104T200000
DTSTAMP:20260421T202910
CREATED:20250326T144437Z
LAST-MODIFIED:20250326T144437Z
UID:16907-1762279200-1762286400@mtcs.org
SUMMARY:Parents of P.E.A.S.E. Support Group
DESCRIPTION:Monthly Parents of P.E.A.S.E. (POP) Counseling Session with our Licensed Therapist. Meet with our contracted Therapist and other parents to discuss issues and garner support associated with raising teens in recovery.
URL:https://mtcs.org/pease/calendar/parents-of-p-e-a-s-e-support-group-22/
END:VEVENT
BEGIN:VEVENT
DTSTART;TZID=America/Chicago:20251104T083000
DTEND;TZID=America/Chicago:20251104T152000
DTSTAMP:20260421T202910
CREATED:20250326T184845Z
LAST-MODIFIED:20250326T184845Z
UID:16955-1762245000-1762269600@mtcs.org
SUMMARY:Quarter 2 Starts
DESCRIPTION:
URL:https://mtcs.org/pease/calendar/quarter-2-starts-3/
END:VEVENT
BEGIN:VEVENT
DTSTART;TZID=America/Chicago:20251103T080000
DTEND;TZID=America/Chicago:20251103T160000
DTSTAMP:20260421T202910
CREATED:20250326T145246Z
LAST-MODIFIED:20250326T145246Z
UID:16913-1762156800-1762185600@mtcs.org
SUMMARY:Professional Development--No Students
DESCRIPTION:
URL:https://mtcs.org/pease/calendar/professional-development-no-students-17/
END:VEVENT
BEGIN:VEVENT
DTSTART;TZID=America/Chicago:20251031T080000
DTEND;TZID=America/Chicago:20251031T170000
DTSTAMP:20260421T202910
CREATED:20250326T184805Z
LAST-MODIFIED:20250326T184805Z
UID:16953-1761897600-1761930000@mtcs.org
SUMMARY:End of Quarter 1
DESCRIPTION:
URL:https://mtcs.org/pease/calendar/end-of-quarter-1-6/
END:VEVENT
BEGIN:VEVENT
DTSTART;VALUE=DATE:20251016
DTEND;VALUE=DATE:20251018
DTSTAMP:20260421T202910
CREATED:20250326T184738Z
LAST-MODIFIED:20250326T184738Z
UID:16951-1760572800-1760745599@mtcs.org
SUMMARY:MEA Conference--No School
DESCRIPTION:
URL:https://mtcs.org/pease/calendar/mea-conference-no-school/
END:VEVENT
BEGIN:VEVENT
DTSTART;TZID=America/Chicago:20251009T173000
DTEND;TZID=America/Chicago:20251009T203000
DTSTAMP:20260421T202910
CREATED:20250326T165419Z
LAST-MODIFIED:20250326T165419Z
UID:16930-1760031000-1760041800@mtcs.org
SUMMARY:P.E.A.S.E. Academy Harvest Festival Fundraiser--Off Site
DESCRIPTION:Our annual Festival Fundraiser. Family and friends of P.E.A.S.E. come together to share a delicious meal and hear student speakers. There is a silent auction.  This is a ticketed event
URL:https://mtcs.org/pease/calendar/p-e-a-s-e-academy-harvest-festival-fundraiser-off-site/
END:VEVENT
BEGIN:VEVENT
DTSTART;TZID=America/Chicago:20251007T180000
DTEND;TZID=America/Chicago:20251007T200000
DTSTAMP:20260421T202910
CREATED:20250326T144536Z
LAST-MODIFIED:20250326T144536Z
UID:16909-1759860000-1759867200@mtcs.org
SUMMARY:Parents of P.E.A.S.E. Support Group
DESCRIPTION:Monthly Parents of P.E.A.S.E. (POP) Counseling Session with our Licensed Therapist. Meet with our contracted Therapist and other parents to discuss issues and garner support associated with raising teens in recovery.
URL:https://mtcs.org/pease/calendar/parents-of-p-e-a-s-e-support-group-23/
END:VEVENT
BEGIN:VEVENT
DTSTART;TZID=America/Chicago:20251004T080000
DTEND;TZID=America/Chicago:20251004T120000
DTSTAMP:20260421T202910
CREATED:20250326T165209Z
LAST-MODIFIED:20250326T165209Z
UID:16928-1759564800-1759579200@mtcs.org
SUMMARY:P.E.A.S.E. Academy Annual Pancake Breakfast
DESCRIPTION:Our sixteenth annual Pancake Fundraiser held at the school. All proceeds go directly to student activities\, especially prom.
URL:https://mtcs.org/pease/calendar/p-e-a-s-e-academy-annual-pancake-breakfast-2/
END:VEVENT
BEGIN:VEVENT
DTSTART;TZID=America/Chicago:20251003T080000
DTEND;TZID=America/Chicago:20251003T120000
DTSTAMP:20260421T202910
CREATED:20250326T165640Z
LAST-MODIFIED:20250326T165640Z
UID:16934-1759478400-1759492800@mtcs.org
SUMMARY:Morning Parent-Teacher Conferences-NS
DESCRIPTION:Parent Teacher Conferences from 8 am-12 pm. Time slots will be signed up through a shared google document. Students are not required to attend but they are more than welcome to be a part of the conferences
URL:https://mtcs.org/pease/calendar/morning-parent-teacher-conferences-ns-3/
END:VEVENT
BEGIN:VEVENT
DTSTART;TZID=America/Chicago:20251002T080000
DTEND;TZID=America/Chicago:20251002T170000
DTSTAMP:20260421T202910
CREATED:20250326T165820Z
LAST-MODIFIED:20250326T165820Z
UID:16938-1759392000-1759424400@mtcs.org
SUMMARY:Yom Kippur--No School
DESCRIPTION:
URL:https://mtcs.org/pease/calendar/yom-kippur-no-school/
END:VEVENT
BEGIN:VEVENT
DTSTART;TZID=America/Chicago:20251001T160000
DTEND;TZID=America/Chicago:20251001T200000
DTSTAMP:20260421T202910
CREATED:20250326T165750Z
LAST-MODIFIED:20250326T165750Z
UID:16936-1759334400-1759348800@mtcs.org
SUMMARY:Evening Parent-Teacher Conferences
DESCRIPTION:Parent Teacher Conferences from 4 pm-8 pm. Time slots will be signed up through a shared google document. Students are not required to attend but they are more than welcome to be a part of the conferences
URL:https://mtcs.org/pease/calendar/evening-parent-teacher-conferences-8/
END:VEVENT
BEGIN:VEVENT
DTSTART;TZID=America/Chicago:20250926T080000
DTEND;TZID=America/Chicago:20250926T170000
DTSTAMP:20260421T202910
CREATED:20250326T165526Z
LAST-MODIFIED:20250326T165526Z
UID:16932-1758873600-1758906000@mtcs.org
SUMMARY:Professional Development--No Students
DESCRIPTION:
URL:https://mtcs.org/pease/calendar/professional-development-no-students-20/
END:VEVENT
BEGIN:VEVENT
DTSTART;TZID=America/Chicago:20250909T184500
DTEND;TZID=America/Chicago:20250909T203000
DTSTAMP:20260421T202910
CREATED:20250326T144733Z
LAST-MODIFIED:20250326T144733Z
UID:16911-1757443500-1757449800@mtcs.org
SUMMARY:Parents of P.E.A.S.E. (POP) Open House
DESCRIPTION:Parents are welcomed to the school to meet all the teachers\, learn what is happening in the classes\, ask any questions they may have\, and meet other parents.  Refreshments will be served.
URL:https://mtcs.org/pease/calendar/parents-of-p-e-a-s-e-pop-open-house-7/
END:VEVENT
BEGIN:VEVENT
DTSTART;TZID=America/Chicago:20250901T080000
DTEND;TZID=America/Chicago:20250901T170000
DTSTAMP:20260421T202910
CREATED:20250326T184453Z
LAST-MODIFIED:20250326T184453Z
UID:16948-1756713600-1756746000@mtcs.org
SUMMARY:Labor Day--No School
DESCRIPTION:
URL:https://mtcs.org/pease/calendar/labor-day-no-school-10/
END:VEVENT
BEGIN:VEVENT
DTSTART;TZID=America/Chicago:20250825T083000
DTEND;TZID=America/Chicago:20250825T152000
DTSTAMP:20260421T202910
CREATED:20250326T184424Z
LAST-MODIFIED:20250326T184424Z
UID:16946-1756110600-1756135200@mtcs.org
SUMMARY:First Day of School
DESCRIPTION:School starts promptly at 8:30 a.m. and goes until 3:20 p.m. \n601 13th Ave SE \nMinneapolis\, MN 55414
URL:https://mtcs.org/pease/calendar/first-day-of-school-3/
END:VEVENT
END:VCALENDAR