BEGIN:VCALENDAR
VERSION:2.0
PRODID:-//P.E.A.S.E. Academy - ECPv6.15.20//NONSGML v1.0//EN
CALSCALE:GREGORIAN
METHOD:PUBLISH
X-ORIGINAL-URL:https://mtcs.org/pease
X-WR-CALDESC:Events for P.E.A.S.E. Academy
REFRESH-INTERVAL;VALUE=DURATION:PT1H
X-Robots-Tag:noindex
X-PUBLISHED-TTL:PT1H
BEGIN:VTIMEZONE
TZID:America/Chicago
BEGIN:DAYLIGHT
TZOFFSETFROM:-0600
TZOFFSETTO:-0500
TZNAME:CDT
DTSTART:20250309T080000
END:DAYLIGHT
BEGIN:STANDARD
TZOFFSETFROM:-0500
TZOFFSETTO:-0600
TZNAME:CST
DTSTART:20251102T070000
END:STANDARD
BEGIN:DAYLIGHT
TZOFFSETFROM:-0600
TZOFFSETTO:-0500
TZNAME:CDT
DTSTART:20260308T080000
END:DAYLIGHT
BEGIN:STANDARD
TZOFFSETFROM:-0500
TZOFFSETTO:-0600
TZNAME:CST
DTSTART:20261101T070000
END:STANDARD
BEGIN:DAYLIGHT
TZOFFSETFROM:-0600
TZOFFSETTO:-0500
TZNAME:CDT
DTSTART:20270314T080000
END:DAYLIGHT
BEGIN:STANDARD
TZOFFSETFROM:-0500
TZOFFSETTO:-0600
TZNAME:CST
DTSTART:20271107T070000
END:STANDARD
END:VTIMEZONE
BEGIN:VEVENT
DTSTART;VALUE=DATE:20260525
DTEND;VALUE=DATE:20260526
DTSTAMP:20260421T185806
CREATED:20250326T142919Z
LAST-MODIFIED:20250326T142919Z
UID:16886-1779667200-1779753599@mtcs.org
SUMMARY:Memorial Day--No School
DESCRIPTION:
URL:https://mtcs.org/pease/calendar/memorial-day-no-school-10/
END:VEVENT
BEGIN:VEVENT
DTSTART;VALUE=DATE:20260526
DTEND;VALUE=DATE:20260528
DTSTAMP:20260421T185806
CREATED:20250326T142842Z
LAST-MODIFIED:20250326T142842Z
UID:16884-1779753600-1779926399@mtcs.org
SUMMARY:No School
DESCRIPTION:
URL:https://mtcs.org/pease/calendar/no-school/
END:VEVENT
BEGIN:VEVENT
DTSTART;TZID=America/Chicago:20260603T183000
DTEND;TZID=America/Chicago:20260603T203000
DTSTAMP:20260421T185806
CREATED:20250326T143802Z
LAST-MODIFIED:20250326T143802Z
UID:16892-1780511400-1780518600@mtcs.org
SUMMARY:P.E.A.S.E. Graduation
DESCRIPTION:601 13th Ave SE \nMinneapolis\, MN 55414
URL:https://mtcs.org/pease/calendar/p-e-a-s-e-graduation/
END:VEVENT
BEGIN:VEVENT
DTSTART;TZID=America/Chicago:20260605T083000
DTEND;TZID=America/Chicago:20260605T140000
DTSTAMP:20260421T185806
CREATED:20250326T142553Z
LAST-MODIFIED:20250326T142553Z
UID:16879-1780648200-1780668000@mtcs.org
SUMMARY:Last Day of School--School Picnic
DESCRIPTION:
URL:https://mtcs.org/pease/calendar/last-day-of-school-school-picnic/
END:VEVENT
BEGIN:VEVENT
DTSTART;TZID=America/Chicago:20260608T080000
DTEND;TZID=America/Chicago:20260609T170000
DTSTAMP:20260421T185806
CREATED:20250326T142429Z
LAST-MODIFIED:20250326T142429Z
UID:16877-1780905600-1781024400@mtcs.org
SUMMARY:Staff Wrap-Up:  No Students
DESCRIPTION:
URL:https://mtcs.org/pease/calendar/staff-wrap-up-no-students/
END:VEVENT
END:VCALENDAR