BEGIN:VCALENDAR
VERSION:2.0
PRODID:-//P.E.A.S.E. Academy - ECPv6.15.20//NONSGML v1.0//EN
CALSCALE:GREGORIAN
METHOD:PUBLISH
X-ORIGINAL-URL:https://mtcs.org/pease
X-WR-CALDESC:Events for P.E.A.S.E. Academy
REFRESH-INTERVAL;VALUE=DURATION:PT1H
X-Robots-Tag:noindex
X-PUBLISHED-TTL:PT1H
BEGIN:VTIMEZONE
TZID:America/Chicago
BEGIN:DAYLIGHT
TZOFFSETFROM:-0600
TZOFFSETTO:-0500
TZNAME:CDT
DTSTART:20220313T080000
END:DAYLIGHT
BEGIN:STANDARD
TZOFFSETFROM:-0500
TZOFFSETTO:-0600
TZNAME:CST
DTSTART:20221106T070000
END:STANDARD
BEGIN:DAYLIGHT
TZOFFSETFROM:-0600
TZOFFSETTO:-0500
TZNAME:CDT
DTSTART:20230312T080000
END:DAYLIGHT
BEGIN:STANDARD
TZOFFSETFROM:-0500
TZOFFSETTO:-0600
TZNAME:CST
DTSTART:20231105T070000
END:STANDARD
BEGIN:DAYLIGHT
TZOFFSETFROM:-0600
TZOFFSETTO:-0500
TZNAME:CDT
DTSTART:20240310T080000
END:DAYLIGHT
BEGIN:STANDARD
TZOFFSETFROM:-0500
TZOFFSETTO:-0600
TZNAME:CST
DTSTART:20241103T070000
END:STANDARD
BEGIN:DAYLIGHT
TZOFFSETFROM:-0600
TZOFFSETTO:-0500
TZNAME:CDT
DTSTART:20250309T080000
END:DAYLIGHT
BEGIN:STANDARD
TZOFFSETFROM:-0500
TZOFFSETTO:-0600
TZNAME:CST
DTSTART:20251102T070000
END:STANDARD
END:VTIMEZONE
BEGIN:VEVENT
DTSTART;TZID=America/Chicago:20240812T080000
DTEND;TZID=America/Chicago:20240812T170000
DTSTAMP:20260421T215645
CREATED:20240610T211139Z
LAST-MODIFIED:20240610T211139Z
UID:16738-1723449600-1723482000@mtcs.org
SUMMARY:Office Staff Returns
DESCRIPTION:
URL:https://mtcs.org/pease/calendar/office-staff-returns-5/
END:VEVENT
BEGIN:VEVENT
DTSTART;TZID=America/Chicago:20240613T080000
DTEND;TZID=America/Chicago:20240613T150000
DTSTAMP:20260421T215645
CREATED:20230215T163955Z
LAST-MODIFIED:20230215T163955Z
UID:16288-1718265600-1718290800@mtcs.org
SUMMARY:Staff Wrap Up--No School
DESCRIPTION:
URL:https://mtcs.org/pease/calendar/staff-wrap-up-no-school-2/
END:VEVENT
BEGIN:VEVENT
DTSTART;TZID=America/Chicago:20240612T183000
DTEND;TZID=America/Chicago:20240612T203000
DTSTAMP:20260421T215645
CREATED:20230215T163852Z
LAST-MODIFIED:20230215T163852Z
UID:16286-1718217000-1718224200@mtcs.org
SUMMARY:P.E.A.S.E. Academy Graduation
DESCRIPTION:601 13th Ave SE\nMinneapolis\, MN 55414
URL:https://mtcs.org/pease/calendar/p-e-a-s-e-academy-graduation-6/
END:VEVENT
BEGIN:VEVENT
DTSTART;TZID=America/Chicago:20240612T083000
DTEND;TZID=America/Chicago:20240612T153000
DTSTAMP:20260421T215645
CREATED:20230215T164037Z
LAST-MODIFIED:20230215T164037Z
UID:16290-1718181000-1718206200@mtcs.org
SUMMARY:Last Day of School
DESCRIPTION:
URL:https://mtcs.org/pease/calendar/last-day-of-school-4/
END:VEVENT
BEGIN:VEVENT
DTSTART;TZID=America/Chicago:20240611T083000
DTEND;TZID=America/Chicago:20240611T153000
DTSTAMP:20260421T215645
CREATED:20230215T164151Z
LAST-MODIFIED:20230215T164151Z
UID:16292-1718094600-1718119800@mtcs.org
SUMMARY:End of School Year Student Picnic
DESCRIPTION:
URL:https://mtcs.org/pease/calendar/end-of-school-year-student-picnic/
END:VEVENT
BEGIN:VEVENT
DTSTART;TZID=America/Chicago:20240527T080000
DTEND;TZID=America/Chicago:20240527T170000
DTSTAMP:20260421T215645
CREATED:20230215T172830Z
LAST-MODIFIED:20230215T172830Z
UID:16335-1716796800-1716829200@mtcs.org
SUMMARY:Memorial Day--No School
DESCRIPTION:
URL:https://mtcs.org/pease/calendar/memorial-day-no-school-8/
END:VEVENT
BEGIN:VEVENT
DTSTART;TZID=America/Chicago:20240510T080000
DTEND;TZID=America/Chicago:20240510T160000
DTSTAMP:20260421T215645
CREATED:20230215T172749Z
LAST-MODIFIED:20230215T172749Z
UID:16333-1715328000-1715356800@mtcs.org
SUMMARY:Staff Professional Development--No School
DESCRIPTION:
URL:https://mtcs.org/pease/calendar/staff-professional-development-no-school-7/
END:VEVENT
BEGIN:VEVENT
DTSTART;TZID=America/Chicago:20240510T063000
DTEND;TZID=America/Chicago:20240510T210000
DTSTAMP:20260421T215645
CREATED:20230215T164328Z
LAST-MODIFIED:20230215T164328Z
UID:16294-1715322600-1715374800@mtcs.org
SUMMARY:P.E.A.S.E. Prom--Off Site
DESCRIPTION:
URL:https://mtcs.org/pease/calendar/p-e-a-s-e-prom-off-site-5/
END:VEVENT
BEGIN:VEVENT
DTSTART;TZID=America/Chicago:20240502T180000
DTEND;TZID=America/Chicago:20240502T200000
DTSTAMP:20260421T215645
CREATED:20230215T163405Z
LAST-MODIFIED:20230215T163405Z
UID:16284-1714672800-1714680000@mtcs.org
SUMMARY:Parents of P.E.A.S.E.
DESCRIPTION:Monthly Parents of P.E.A.S.E. (POP) Counseling Session with our Licensed Alcohol and Drug Counselor. Meet with our LADC and other parents to discuss issues and garner support associated with raising teens in recovery.
URL:https://mtcs.org/pease/calendar/parents-of-p-e-a-s-e/
END:VEVENT
BEGIN:VEVENT
DTSTART;TZID=America/Chicago:20240411T080000
DTEND;TZID=America/Chicago:20240411T170000
DTSTAMP:20260421T215645
CREATED:20230215T173516Z
LAST-MODIFIED:20230215T173516Z
UID:16357-1712822400-1712854800@mtcs.org
SUMMARY:Start of Q4
DESCRIPTION:
URL:https://mtcs.org/pease/calendar/start-of-q4/
END:VEVENT
BEGIN:VEVENT
DTSTART;TZID=America/Chicago:20240409T080000
DTEND;TZID=America/Chicago:20240410T170000
DTSTAMP:20260421T215645
CREATED:20230215T172919Z
LAST-MODIFIED:20230215T172919Z
UID:16337-1712649600-1712768400@mtcs.org
SUMMARY:EID al-Fitr--No School
DESCRIPTION:
URL:https://mtcs.org/pease/calendar/eid-al-fitr-no-school/
END:VEVENT
BEGIN:VEVENT
DTSTART;TZID=America/Chicago:20240408T080000
DTEND;TZID=America/Chicago:20240408T160000
DTSTAMP:20260421T215645
CREATED:20230215T172720Z
LAST-MODIFIED:20230215T172720Z
UID:16331-1712563200-1712592000@mtcs.org
SUMMARY:Staff Professional Development--No School
DESCRIPTION:
URL:https://mtcs.org/pease/calendar/staff-professional-development-no-school-6/
END:VEVENT
BEGIN:VEVENT
DTSTART;TZID=America/Chicago:20240405T080000
DTEND;TZID=America/Chicago:20240405T170000
DTSTAMP:20260421T215645
CREATED:20230215T173442Z
LAST-MODIFIED:20230215T173442Z
UID:16355-1712304000-1712336400@mtcs.org
SUMMARY:Last Day of Q3
DESCRIPTION:
URL:https://mtcs.org/pease/calendar/last-day-of-q3/
END:VEVENT
BEGIN:VEVENT
DTSTART;TZID=America/Chicago:20240404T180000
DTEND;TZID=America/Chicago:20240404T200000
DTSTAMP:20260421T215645
CREATED:20230215T163317Z
LAST-MODIFIED:20230215T163317Z
UID:16282-1712253600-1712260800@mtcs.org
SUMMARY:Parents of P.E.A.S.E. Support Group
DESCRIPTION:Monthly Parents of P.E.A.S.E. (POP) Counseling Session with our Licensed Alcohol and Drug Counselor. Meet with our LADC and other parents to discuss issues and garner support associated with raising teens in recovery.
URL:https://mtcs.org/pease/calendar/parents-of-p-e-a-s-e-support-group-7/
END:VEVENT
BEGIN:VEVENT
DTSTART;TZID=America/Chicago:20240401T080000
DTEND;TZID=America/Chicago:20240401T170000
DTSTAMP:20260421T215645
CREATED:20230215T174322Z
LAST-MODIFIED:20230215T174322Z
UID:16367-1711958400-1711990800@mtcs.org
SUMMARY:School Resumes
DESCRIPTION:First Day back from Spring Break
URL:https://mtcs.org/pease/calendar/school-resumes-4/
END:VEVENT
BEGIN:VEVENT
DTSTART;TZID=America/Chicago:20240325T080000
DTEND;TZID=America/Chicago:20240329T170000
DTSTAMP:20260421T215645
CREATED:20230215T173001Z
LAST-MODIFIED:20230215T173001Z
UID:16339-1711353600-1711731600@mtcs.org
SUMMARY:Spring Break--No School
DESCRIPTION:
URL:https://mtcs.org/pease/calendar/spring-break-no-school-8/
END:VEVENT
BEGIN:VEVENT
DTSTART;TZID=America/Chicago:20240321T120000
DTEND;TZID=America/Chicago:20240321T153000
DTSTAMP:20260421T215645
CREATED:20230215T164544Z
LAST-MODIFIED:20230215T164544Z
UID:16298-1711022400-1711035000@mtcs.org
SUMMARY:Recovery Renewal
DESCRIPTION:Special programming during the school day to reinvigorate students in regards to their recovery and help them plan for the spring season\, including Spring Break.
URL:https://mtcs.org/pease/calendar/recovery-renewal-8/
END:VEVENT
BEGIN:VEVENT
DTSTART;TZID=America/Chicago:20240314T183000
DTEND;TZID=America/Chicago:20240314T203000
DTSTAMP:20260421T215645
CREATED:20230215T164445Z
LAST-MODIFIED:20230215T164445Z
UID:16296-1710441000-1710448200@mtcs.org
SUMMARY:P.E.A.S.E. Academy Extravaganza
DESCRIPTION:An evening showcasing student talent and enjoying a delicious dinner.
URL:https://mtcs.org/pease/calendar/p-e-a-s-e-academy-extravaganza-5/
END:VEVENT
BEGIN:VEVENT
DTSTART;TZID=America/Chicago:20240307T180000
DTEND;TZID=America/Chicago:20240307T200000
DTSTAMP:20260421T215645
CREATED:20230215T163209Z
LAST-MODIFIED:20230215T163209Z
UID:16280-1709834400-1709841600@mtcs.org
SUMMARY:Parents of P.E.A.S.E. Support Group
DESCRIPTION:Monthly Parents of P.E.A.S.E. (POP) Counseling Session with our Licensed Alcohol and Drug Counselor. Meet with our LADC and other parents to discuss issues and garner support associated with raising teens in recovery.
URL:https://mtcs.org/pease/calendar/parents-of-p-e-a-s-e-support-group-6/
END:VEVENT
BEGIN:VEVENT
DTSTART;TZID=America/Chicago:20240219T080000
DTEND;TZID=America/Chicago:20240219T170000
DTSTAMP:20260421T215645
CREATED:20230215T173030Z
LAST-MODIFIED:20230215T173030Z
UID:16341-1708329600-1708362000@mtcs.org
SUMMARY:Presidents Day--No School
DESCRIPTION:
URL:https://mtcs.org/pease/calendar/presidents-day-no-school-8/
END:VEVENT
BEGIN:VEVENT
DTSTART;TZID=America/Chicago:20240201T180000
DTEND;TZID=America/Chicago:20240201T200000
DTSTAMP:20260421T215645
CREATED:20230215T162918Z
LAST-MODIFIED:20230215T162918Z
UID:16278-1706810400-1706817600@mtcs.org
SUMMARY:Parents of P.E.A.S.E. Support Group
DESCRIPTION:Monthly Parents of P.E.A.S.E. (POP) Counseling Session with our Licensed Alcohol and Drug Counselor. Meet with our LADC and other parents to discuss issues and garner support associated with raising teens in recovery.
URL:https://mtcs.org/pease/calendar/parents-of-p-e-a-s-e-support-group-5/
END:VEVENT
BEGIN:VEVENT
DTSTART;TZID=America/Chicago:20240131T080000
DTEND;TZID=America/Chicago:20240131T170000
DTSTAMP:20260421T215645
CREATED:20230215T173546Z
LAST-MODIFIED:20230215T173546Z
UID:16359-1706688000-1706720400@mtcs.org
SUMMARY:Start of Q3/S2
DESCRIPTION:
URL:https://mtcs.org/pease/calendar/start-of-q3-s2/
END:VEVENT
BEGIN:VEVENT
DTSTART;TZID=America/Chicago:20240129T080000
DTEND;TZID=America/Chicago:20240130T160000
DTSTAMP:20260421T215645
CREATED:20230215T172646Z
LAST-MODIFIED:20230215T172646Z
UID:16329-1706515200-1706630400@mtcs.org
SUMMARY:Staff Professional Development--No School
DESCRIPTION:
URL:https://mtcs.org/pease/calendar/staff-professional-development-no-school-5/
END:VEVENT
BEGIN:VEVENT
DTSTART;TZID=America/Chicago:20240126T080000
DTEND;TZID=America/Chicago:20240126T170000
DTSTAMP:20260421T215645
CREATED:20230215T173412Z
LAST-MODIFIED:20230215T173412Z
UID:16353-1706256000-1706288400@mtcs.org
SUMMARY:Last Day of Q2/S1
DESCRIPTION:
URL:https://mtcs.org/pease/calendar/last-day-of-q2-s1/
END:VEVENT
BEGIN:VEVENT
DTSTART;TZID=America/Chicago:20240125T120000
DTEND;TZID=America/Chicago:20240125T153000
DTSTAMP:20260421T215645
CREATED:20230215T164718Z
LAST-MODIFIED:20230215T164718Z
UID:16300-1706184000-1706196600@mtcs.org
SUMMARY:Opportunity Fair
DESCRIPTION:Colleges\, Universities\, and community resources come to P.E.A.S.E. during the school day for students to learn more about the options that are available to them. \nAcademic Classes held in the morning before lunch.
URL:https://mtcs.org/pease/calendar/opportunity-fair-8/
END:VEVENT
BEGIN:VEVENT
DTSTART;TZID=America/Chicago:20240115T080000
DTEND;TZID=America/Chicago:20240115T170000
DTSTAMP:20260421T215645
CREATED:20230215T173101Z
LAST-MODIFIED:20230215T173101Z
UID:16343-1705305600-1705338000@mtcs.org
SUMMARY:MLK Day--No School
DESCRIPTION:
URL:https://mtcs.org/pease/calendar/mlk-day-no-school-3/
END:VEVENT
BEGIN:VEVENT
DTSTART;TZID=America/Chicago:20240111T180000
DTEND;TZID=America/Chicago:20240111T200000
DTSTAMP:20260421T215645
CREATED:20230215T162838Z
LAST-MODIFIED:20230215T162838Z
UID:16276-1704996000-1705003200@mtcs.org
SUMMARY:Parents of P.E.A.S.E. Support Group
DESCRIPTION:Monthly Parents of P.E.A.S.E. (POP) Counseling Session with our Licensed Alcohol and Drug Counselor. Meet with our LADC and other parents to discuss issues and garner support associated with raising teens in recovery.
URL:https://mtcs.org/pease/calendar/parents-of-p-e-a-s-e-support-group-4/
END:VEVENT
BEGIN:VEVENT
DTSTART;TZID=America/Chicago:20240108T080000
DTEND;TZID=America/Chicago:20240108T170000
DTSTAMP:20260421T215645
CREATED:20230215T174250Z
LAST-MODIFIED:20230215T174250Z
UID:16365-1704700800-1704733200@mtcs.org
SUMMARY:School Resumes
DESCRIPTION:First Day back from Winter Break
URL:https://mtcs.org/pease/calendar/school-resumes-3/
END:VEVENT
BEGIN:VEVENT
DTSTART;TZID=America/Chicago:20231225T080000
DTEND;TZID=America/Chicago:20240105T170000
DTSTAMP:20260421T215645
CREATED:20230215T173141Z
LAST-MODIFIED:20230215T173141Z
UID:16345-1703491200-1704474000@mtcs.org
SUMMARY:Winter Break--No School
DESCRIPTION:
URL:https://mtcs.org/pease/calendar/winter-break-no-school-8/
END:VEVENT
BEGIN:VEVENT
DTSTART;TZID=America/Chicago:20231207T180000
DTEND;TZID=America/Chicago:20231207T200000
DTSTAMP:20260421T215645
CREATED:20230215T162757Z
LAST-MODIFIED:20230215T162757Z
UID:16274-1701972000-1701979200@mtcs.org
SUMMARY:Parents of P.E.A.S.E.  Support Group
DESCRIPTION:Monthly Parents of P.E.A.S.E. (POP) Counseling Session with our Licensed Alcohol and Drug Counselor. Meet with our LADC and other parents to discuss issues and garner support associated with raising teens in recovery.
URL:https://mtcs.org/pease/calendar/parents-of-p-e-a-s-e-support-group-3/
END:VEVENT
END:VCALENDAR