BEGIN:VCALENDAR
VERSION:2.0
PRODID:-//P.E.A.S.E. Academy - ECPv6.15.20//NONSGML v1.0//EN
CALSCALE:GREGORIAN
METHOD:PUBLISH
X-ORIGINAL-URL:https://mtcs.org/pease
X-WR-CALDESC:Events for P.E.A.S.E. Academy
REFRESH-INTERVAL;VALUE=DURATION:PT1H
X-Robots-Tag:noindex
X-PUBLISHED-TTL:PT1H
BEGIN:VTIMEZONE
TZID:America/Chicago
BEGIN:DAYLIGHT
TZOFFSETFROM:-0600
TZOFFSETTO:-0500
TZNAME:CDT
DTSTART:20250309T080000
END:DAYLIGHT
BEGIN:STANDARD
TZOFFSETFROM:-0500
TZOFFSETTO:-0600
TZNAME:CST
DTSTART:20251102T070000
END:STANDARD
BEGIN:DAYLIGHT
TZOFFSETFROM:-0600
TZOFFSETTO:-0500
TZNAME:CDT
DTSTART:20260308T080000
END:DAYLIGHT
BEGIN:STANDARD
TZOFFSETFROM:-0500
TZOFFSETTO:-0600
TZNAME:CST
DTSTART:20261101T070000
END:STANDARD
BEGIN:DAYLIGHT
TZOFFSETFROM:-0600
TZOFFSETTO:-0500
TZNAME:CDT
DTSTART:20270314T080000
END:DAYLIGHT
BEGIN:STANDARD
TZOFFSETFROM:-0500
TZOFFSETTO:-0600
TZNAME:CST
DTSTART:20271107T070000
END:STANDARD
END:VTIMEZONE
BEGIN:VEVENT
DTSTART;TZID=America/Chicago:20260216T080000
DTEND;TZID=America/Chicago:20260216T170000
DTSTAMP:20260421T190207
CREATED:20250326T185441Z
LAST-MODIFIED:20250326T185441Z
UID:16971-1771228800-1771261200@mtcs.org
SUMMARY:Presidents' Day--No School
DESCRIPTION:
URL:https://mtcs.org/pease/calendar/presidents-day-no-school-10/
END:VEVENT
BEGIN:VEVENT
DTSTART;TZID=America/Chicago:20260303T180000
DTEND;TZID=America/Chicago:20260303T200000
DTSTAMP:20260421T190207
CREATED:20250326T144136Z
LAST-MODIFIED:20250326T144136Z
UID:16899-1772560800-1772568000@mtcs.org
SUMMARY:Parents of P.E.A.S.E. Support Group
DESCRIPTION:Monthly Parents of P.E.A.S.E. (POP) Counseling Session with our Licensed Therapist. Meet with our contracted Therapist and other parents to discuss issues and garner support associated with raising teens in recovery.
URL:https://mtcs.org/pease/calendar/parents-of-p-e-a-s-e-support-group-18/
END:VEVENT
BEGIN:VEVENT
DTSTART;TZID=America/Chicago:20260312T120000
DTEND;TZID=America/Chicago:20260312T152000
DTSTAMP:20260421T190207
CREATED:20250326T164757Z
LAST-MODIFIED:20250326T164757Z
UID:16921-1773316800-1773328800@mtcs.org
SUMMARY:Recovery Renewal
DESCRIPTION:Special programming during the school day to reinvigorate students in regards to their recovery and help them plan for the spring season\, including Spring Break.
URL:https://mtcs.org/pease/calendar/recovery-renewal-10/
END:VEVENT
BEGIN:VEVENT
DTSTART;VALUE=DATE:20260316
DTEND;VALUE=DATE:20260321
DTSTAMP:20260421T190207
CREATED:20250326T185753Z
LAST-MODIFIED:20250326T185753Z
UID:16977-1773619200-1774051199@mtcs.org
SUMMARY:Spring Break--No School
DESCRIPTION:
URL:https://mtcs.org/pease/calendar/spring-break-no-school-10/
END:VEVENT
BEGIN:VEVENT
DTSTART;TZID=America/Chicago:20260323T080000
DTEND;TZID=America/Chicago:20260323T152000
DTSTAMP:20260421T190207
CREATED:20250326T185830Z
LAST-MODIFIED:20250326T185830Z
UID:16979-1774252800-1774279200@mtcs.org
SUMMARY:School Resumes
DESCRIPTION:8:30 a.m.
URL:https://mtcs.org/pease/calendar/school-resumes-8/
END:VEVENT
BEGIN:VEVENT
DTSTART;TZID=America/Chicago:20260326T183000
DTEND;TZID=America/Chicago:20260326T203000
DTSTAMP:20260421T190207
CREATED:20250326T164425Z
LAST-MODIFIED:20250326T164425Z
UID:16917-1774549800-1774557000@mtcs.org
SUMMARY:P.E.A.S.E. Academy Extravaganza
DESCRIPTION:An evening showcasing student talent and enjoying a delicious dinner.
URL:https://mtcs.org/pease/calendar/p-e-a-s-e-academy-extravaganza-6/
END:VEVENT
BEGIN:VEVENT
DTSTART;TZID=America/Chicago:20260402T080000
DTEND;TZID=America/Chicago:20260402T152000
DTSTAMP:20260421T190207
CREATED:20250326T185921Z
LAST-MODIFIED:20250326T185921Z
UID:16981-1775116800-1775143200@mtcs.org
SUMMARY:End of Quarter 3
DESCRIPTION:
URL:https://mtcs.org/pease/calendar/end-of-quarter-3-6/
END:VEVENT
BEGIN:VEVENT
DTSTART;TZID=America/Chicago:20260403T080000
DTEND;TZID=America/Chicago:20260403T170000
DTSTAMP:20260421T190207
CREATED:20250326T185716Z
LAST-MODIFIED:20260112T145521Z
UID:16975-1775203200-1775235600@mtcs.org
SUMMARY:Professional Development--No School
DESCRIPTION:Professional Development Day for staff.  No students
URL:https://mtcs.org/pease/calendar/parent-teacher-conferences-no-school-2/
END:VEVENT
BEGIN:VEVENT
DTSTART;TZID=America/Chicago:20260406T083000
DTEND;TZID=America/Chicago:20260406T152000
DTSTAMP:20260421T190207
CREATED:20250326T185957Z
LAST-MODIFIED:20250326T185957Z
UID:16983-1775464200-1775488800@mtcs.org
SUMMARY:Start of Quarter 4
DESCRIPTION:
URL:https://mtcs.org/pease/calendar/start-of-quarter-4-3/
END:VEVENT
BEGIN:VEVENT
DTSTART;TZID=America/Chicago:20260407T180000
DTEND;TZID=America/Chicago:20260407T200000
DTSTAMP:20260421T190207
CREATED:20250326T144051Z
LAST-MODIFIED:20250326T144051Z
UID:16897-1775584800-1775592000@mtcs.org
SUMMARY:Parents of P.E.A.S.E. Support Group
DESCRIPTION:Monthly Parents of P.E.A.S.E. (POP) Counseling Session with our Licensed Therapist. Meet with our contracted Therapist and other parents to discuss issues and garner support associated with raising teens in recovery.
URL:https://mtcs.org/pease/calendar/parents-of-p-e-a-s-e-support-group-17/
END:VEVENT
BEGIN:VEVENT
DTSTART;VALUE=DATE:20260501
DTEND;VALUE=DATE:20260502
DTSTAMP:20260421T190207
CREATED:20250326T143017Z
LAST-MODIFIED:20250326T143017Z
UID:16888-1777593600-1777679999@mtcs.org
SUMMARY:Professional Development--No Students
DESCRIPTION:
URL:https://mtcs.org/pease/calendar/professional-development-no-students-16/
END:VEVENT
BEGIN:VEVENT
DTSTART;TZID=America/Chicago:20260505T180000
DTEND;TZID=America/Chicago:20260505T200000
DTSTAMP:20260421T190207
CREATED:20250326T143955Z
LAST-MODIFIED:20250326T143955Z
UID:16895-1778004000-1778011200@mtcs.org
SUMMARY:Parents of P.E.A.S.E. Support Group
DESCRIPTION:Monthly Parents of P.E.A.S.E. (POP) Counseling Session with our Licensed Therapist. Meet with our contracted Therapist and other parents to discuss issues and garner support associated with raising teens in recovery.
URL:https://mtcs.org/pease/calendar/parents-of-p-e-a-s-e-support-group-16/
END:VEVENT
BEGIN:VEVENT
DTSTART;TZID=America/Chicago:20260508T190000
DTEND;TZID=America/Chicago:20260508T220000
DTSTAMP:20260421T190207
CREATED:20250326T143200Z
LAST-MODIFIED:20250326T143200Z
UID:16890-1778266800-1778277600@mtcs.org
SUMMARY:P.E.A.S.E. Prom--Off Site
DESCRIPTION:P.E.A.S.E. Prom–Off Site
URL:https://mtcs.org/pease/calendar/p-e-a-s-e-prom-off-site-7/
END:VEVENT
BEGIN:VEVENT
DTSTART;VALUE=DATE:20260525
DTEND;VALUE=DATE:20260526
DTSTAMP:20260421T190207
CREATED:20250326T142919Z
LAST-MODIFIED:20250326T142919Z
UID:16886-1779667200-1779753599@mtcs.org
SUMMARY:Memorial Day--No School
DESCRIPTION:
URL:https://mtcs.org/pease/calendar/memorial-day-no-school-10/
END:VEVENT
BEGIN:VEVENT
DTSTART;VALUE=DATE:20260526
DTEND;VALUE=DATE:20260528
DTSTAMP:20260421T190207
CREATED:20250326T142842Z
LAST-MODIFIED:20250326T142842Z
UID:16884-1779753600-1779926399@mtcs.org
SUMMARY:No School
DESCRIPTION:
URL:https://mtcs.org/pease/calendar/no-school/
END:VEVENT
BEGIN:VEVENT
DTSTART;TZID=America/Chicago:20260603T183000
DTEND;TZID=America/Chicago:20260603T203000
DTSTAMP:20260421T190207
CREATED:20250326T143802Z
LAST-MODIFIED:20250326T143802Z
UID:16892-1780511400-1780518600@mtcs.org
SUMMARY:P.E.A.S.E. Graduation
DESCRIPTION:601 13th Ave SE \nMinneapolis\, MN 55414
URL:https://mtcs.org/pease/calendar/p-e-a-s-e-graduation/
END:VEVENT
BEGIN:VEVENT
DTSTART;TZID=America/Chicago:20260605T083000
DTEND;TZID=America/Chicago:20260605T140000
DTSTAMP:20260421T190207
CREATED:20250326T142553Z
LAST-MODIFIED:20250326T142553Z
UID:16879-1780648200-1780668000@mtcs.org
SUMMARY:Last Day of School--School Picnic
DESCRIPTION:
URL:https://mtcs.org/pease/calendar/last-day-of-school-school-picnic/
END:VEVENT
BEGIN:VEVENT
DTSTART;TZID=America/Chicago:20260608T080000
DTEND;TZID=America/Chicago:20260609T170000
DTSTAMP:20260421T190207
CREATED:20250326T142429Z
LAST-MODIFIED:20250326T142429Z
UID:16877-1780905600-1781024400@mtcs.org
SUMMARY:Staff Wrap-Up:  No Students
DESCRIPTION:
URL:https://mtcs.org/pease/calendar/staff-wrap-up-no-students/
END:VEVENT
END:VCALENDAR