BEGIN:VCALENDAR
VERSION:2.0
PRODID:-//P.E.A.S.E. Academy - ECPv6.15.20//NONSGML v1.0//EN
CALSCALE:GREGORIAN
METHOD:PUBLISH
X-ORIGINAL-URL:https://mtcs.org/pease
X-WR-CALDESC:Events for P.E.A.S.E. Academy
REFRESH-INTERVAL;VALUE=DURATION:PT1H
X-Robots-Tag:noindex
X-PUBLISHED-TTL:PT1H
BEGIN:VTIMEZONE
TZID:America/Chicago
BEGIN:DAYLIGHT
TZOFFSETFROM:-0600
TZOFFSETTO:-0500
TZNAME:CDT
DTSTART:20230312T080000
END:DAYLIGHT
BEGIN:STANDARD
TZOFFSETFROM:-0500
TZOFFSETTO:-0600
TZNAME:CST
DTSTART:20231105T070000
END:STANDARD
BEGIN:DAYLIGHT
TZOFFSETFROM:-0600
TZOFFSETTO:-0500
TZNAME:CDT
DTSTART:20240310T080000
END:DAYLIGHT
BEGIN:STANDARD
TZOFFSETFROM:-0500
TZOFFSETTO:-0600
TZNAME:CST
DTSTART:20241103T070000
END:STANDARD
BEGIN:DAYLIGHT
TZOFFSETFROM:-0600
TZOFFSETTO:-0500
TZNAME:CDT
DTSTART:20250309T080000
END:DAYLIGHT
BEGIN:STANDARD
TZOFFSETFROM:-0500
TZOFFSETTO:-0600
TZNAME:CST
DTSTART:20251102T070000
END:STANDARD
BEGIN:DAYLIGHT
TZOFFSETFROM:-0600
TZOFFSETTO:-0500
TZNAME:CDT
DTSTART:20260308T080000
END:DAYLIGHT
BEGIN:STANDARD
TZOFFSETFROM:-0500
TZOFFSETTO:-0600
TZNAME:CST
DTSTART:20261101T070000
END:STANDARD
END:VTIMEZONE
BEGIN:VEVENT
DTSTART;VALUE=DATE:20241223
DTEND;VALUE=DATE:20250104
DTSTAMP:20260421T185413
CREATED:20240610T213429Z
LAST-MODIFIED:20240610T213429Z
UID:16772-1734912000-1735948799@mtcs.org
SUMMARY:Winter Break--No School
DESCRIPTION:
URL:https://mtcs.org/pease/calendar/winter-break-no-school-9/
END:VEVENT
BEGIN:VEVENT
DTSTART;TZID=America/Chicago:20241203T180000
DTEND;TZID=America/Chicago:20241203T200000
DTSTAMP:20260421T185413
CREATED:20240610T210938Z
LAST-MODIFIED:20240729T153706Z
UID:16732-1733248800-1733256000@mtcs.org
SUMMARY:Parents of P.E.A.S.E. Support Group
DESCRIPTION:Monthly Parents of P.E.A.S.E. (POP) Counseling Session with our Licensed Therapist. Meet with our contracted Therapist and other parents to discuss issues and garner support associated with raising teens in recovery.
URL:https://mtcs.org/pease/calendar/parents-of-p-e-a-s-e-support-group-13/
END:VEVENT
BEGIN:VEVENT
DTSTART;VALUE=DATE:20241127
DTEND;VALUE=DATE:20241130
DTSTAMP:20260421T185413
CREATED:20240610T213331Z
LAST-MODIFIED:20240610T213331Z
UID:16770-1732665600-1732924799@mtcs.org
SUMMARY:Thanksgiving Holiday Break--No School
DESCRIPTION:
URL:https://mtcs.org/pease/calendar/thanksgiving-holiday-break-no-school-6/
END:VEVENT
BEGIN:VEVENT
DTSTART;TZID=America/Chicago:20241126T120000
DTEND;TZID=America/Chicago:20241126T152000
DTSTAMP:20260421T185413
CREATED:20240610T212901Z
LAST-MODIFIED:20240610T212901Z
UID:16764-1732622400-1732634400@mtcs.org
SUMMARY:Recovery Revival
DESCRIPTION:Special programming during the school day to reinvigorate students in regards to their recovery and help them plan for the holiday season\, including Winter Break.
URL:https://mtcs.org/pease/calendar/recovery-revival-9/
END:VEVENT
BEGIN:VEVENT
DTSTART;TZID=America/Chicago:20241112T180000
DTEND;TZID=America/Chicago:20241112T200000
DTSTAMP:20260421T185413
CREATED:20240610T211025Z
LAST-MODIFIED:20240729T153638Z
UID:16734-1731434400-1731441600@mtcs.org
SUMMARY:Parents of P.E.A.S.E. Support Group
DESCRIPTION:Monthly Parents of P.E.A.S.E. (POP) Counseling Session with our Licensed Therapist. Meet with our contracted Therapist and other parents to discuss issues and garner support associated with raising teens in recovery.
URL:https://mtcs.org/pease/calendar/parents-of-p-e-a-s-e-support-group-14/
END:VEVENT
BEGIN:VEVENT
DTSTART;TZID=America/Chicago:20241111T080000
DTEND;TZID=America/Chicago:20241111T170000
DTSTAMP:20260421T185413
CREATED:20240610T213238Z
LAST-MODIFIED:20240610T213238Z
UID:16768-1731312000-1731344400@mtcs.org
SUMMARY:Quarter 2--Starts
DESCRIPTION:
URL:https://mtcs.org/pease/calendar/quarter-2-starts-2/
END:VEVENT
BEGIN:VEVENT
DTSTART;TZID=America/Chicago:20241108T080000
DTEND;TZID=America/Chicago:20241108T170000
DTSTAMP:20260421T185413
CREATED:20240610T213206Z
LAST-MODIFIED:20240610T213206Z
UID:16766-1731052800-1731085200@mtcs.org
SUMMARY:Quarter 1--Last Day
DESCRIPTION:
URL:https://mtcs.org/pease/calendar/quarter-1-last-day/
END:VEVENT
BEGIN:VEVENT
DTSTART;TZID=America/Chicago:20241105T080000
DTEND;TZID=America/Chicago:20241105T170000
DTSTAMP:20260421T185413
CREATED:20240610T210207Z
LAST-MODIFIED:20240610T210207Z
UID:16718-1730793600-1730826000@mtcs.org
SUMMARY:Election Day--No School--Professional Development Teachers
DESCRIPTION:
URL:https://mtcs.org/pease/calendar/election-day-no-school-professional-development-teachers/
END:VEVENT
BEGIN:VEVENT
DTSTART;TZID=America/Chicago:20241102T080000
DTEND;TZID=America/Chicago:20241102T120000
DTSTAMP:20260421T185413
CREATED:20240610T212617Z
LAST-MODIFIED:20240610T212617Z
UID:16760-1730534400-1730548800@mtcs.org
SUMMARY:P.E.A.S.E. Academy Annual Pancake Breakfast
DESCRIPTION:Our fifteenth annual Pancake Fundraiser held at the school. All proceeds go directly to student activities\, especially prom.
URL:https://mtcs.org/pease/calendar/p-e-a-s-e-academy-annual-pancake-breakfast/
END:VEVENT
BEGIN:VEVENT
DTSTART;VALUE=DATE:20241017
DTEND;VALUE=DATE:20241019
DTSTAMP:20260421T185413
CREATED:20240610T212331Z
LAST-MODIFIED:20240610T212331Z
UID:16756-1729123200-1729295999@mtcs.org
SUMMARY:Fall Break--No School
DESCRIPTION:
URL:https://mtcs.org/pease/calendar/fall-break-no-school-5/
END:VEVENT
BEGIN:VEVENT
DTSTART;TZID=America/Chicago:20241016T080000
DTEND;TZID=America/Chicago:20241016T120000
DTSTAMP:20260421T185413
CREATED:20240610T212016Z
LAST-MODIFIED:20240610T212016Z
UID:16750-1729065600-1729080000@mtcs.org
SUMMARY:Morning Parent-Teacher Conferences--NS
DESCRIPTION:Parent Teacher Conferences from 8 am-12 pm. Time slots will be signed up through a shared google document. Students are not required to attend but they are more than welcome to be a part of the conferences
URL:https://mtcs.org/pease/calendar/morning-parent-teacher-conferences-ns-2/
END:VEVENT
BEGIN:VEVENT
DTSTART;TZID=America/Chicago:20241015T160000
DTEND;TZID=America/Chicago:20241015T200000
DTSTAMP:20260421T185413
CREATED:20240610T212125Z
LAST-MODIFIED:20240610T212125Z
UID:16752-1729008000-1729022400@mtcs.org
SUMMARY:Evening Parent-Teacher Conferences
DESCRIPTION:Parent Teacher Conferences from 4 pm-8 pm. Time slots will be signed up through a shared google document. Students are not required to attend but they are more than welcome to be a part of the conferences
URL:https://mtcs.org/pease/calendar/evening-parent-teacher-conferences-7/
END:VEVENT
BEGIN:VEVENT
DTSTART;TZID=America/Chicago:20241001T180000
DTEND;TZID=America/Chicago:20241001T200000
DTSTAMP:20260421T185413
CREATED:20240610T211110Z
LAST-MODIFIED:20240729T153525Z
UID:16736-1727805600-1727812800@mtcs.org
SUMMARY:Parents of P.E.A.S.E. Support Group
DESCRIPTION:Monthly Parents of P.E.A.S.E. (POP) Counseling Session with our Licensed Therapist. Meet with our contracted Therapist and other parents to discuss issues and garner support associated with raising teens in recovery.
URL:https://mtcs.org/pease/calendar/parents-of-p-e-a-s-e-support-group-15/
END:VEVENT
BEGIN:VEVENT
DTSTART;TZID=America/Chicago:20240927T080000
DTEND;TZID=America/Chicago:20240927T170000
DTSTAMP:20260421T185413
CREATED:20240610T210037Z
LAST-MODIFIED:20240610T210037Z
UID:16715-1727424000-1727456400@mtcs.org
SUMMARY:Staff Professional Development--No School
DESCRIPTION:
URL:https://mtcs.org/pease/calendar/staff-professional-development-no-school-12/
END:VEVENT
BEGIN:VEVENT
DTSTART;TZID=America/Chicago:20240926T173000
DTEND;TZID=America/Chicago:20240926T203000
DTSTAMP:20260421T185413
CREATED:20240610T211534Z
LAST-MODIFIED:20240610T211534Z
UID:16746-1727371800-1727382600@mtcs.org
SUMMARY:P.E.A.S.E. Academy Fall Festival Fundraiser--Off Site
DESCRIPTION:Our annual Festival Fundraiser. Family and friends of P.E.A.S.E. come together to share a delicious meal and hear student speakers. There is a silent auction.
URL:https://mtcs.org/pease/calendar/p-e-a-s-e-academy-fall-festival-fundraiser-off-site/
END:VEVENT
BEGIN:VEVENT
DTSTART;TZID=America/Chicago:20240910T184500
DTEND;TZID=America/Chicago:20240910T203000
DTSTAMP:20260421T185413
CREATED:20240610T211708Z
LAST-MODIFIED:20240610T211708Z
UID:16748-1725993900-1726000200@mtcs.org
SUMMARY:Parents of P.E.A.S.E. (POP) Open House
DESCRIPTION:Parents are welcomed to the school to meet all the teachers\, learn what is happening in the classes\, ask any questions they may have\, and meet other parents.  Refreshments will be served.
URL:https://mtcs.org/pease/calendar/parents-of-p-e-a-s-e-pop-open-house-6/
END:VEVENT
BEGIN:VEVENT
DTSTART;TZID=America/Chicago:20240903T083000
DTEND;TZID=America/Chicago:20240903T152000
DTSTAMP:20260421T185413
CREATED:20240610T212244Z
LAST-MODIFIED:20240610T212244Z
UID:16754-1725352200-1725376800@mtcs.org
SUMMARY:First Day of School
DESCRIPTION:School starts promptly at 8:30 a.m. and goes until 3:20 p.m. \n601 13th Ave SE \nMinneapolis\, MN 55414
URL:https://mtcs.org/pease/calendar/first-day-of-school-2/
END:VEVENT
BEGIN:VEVENT
DTSTART;TZID=America/Chicago:20240902T080000
DTEND;TZID=America/Chicago:20240902T170000
DTSTAMP:20260421T185413
CREATED:20240610T211400Z
LAST-MODIFIED:20240610T211400Z
UID:16744-1725264000-1725296400@mtcs.org
SUMMARY:Labor Day--No School
DESCRIPTION:
URL:https://mtcs.org/pease/calendar/labor-day-no-school-9/
END:VEVENT
BEGIN:VEVENT
DTSTART;TZID=America/Chicago:20240819T080000
DTEND;TZID=America/Chicago:20240829T160000
DTSTAMP:20260421T185413
CREATED:20240610T211327Z
LAST-MODIFIED:20240610T211327Z
UID:16742-1724054400-1724947200@mtcs.org
SUMMARY:All Staff and Teacher Workshop Days
DESCRIPTION:
URL:https://mtcs.org/pease/calendar/all-staff-and-teacher-workshop-days/
END:VEVENT
BEGIN:VEVENT
DTSTART;TZID=America/Chicago:20240814T080000
DTEND;TZID=America/Chicago:20240816T160000
DTSTAMP:20260421T185413
CREATED:20240610T211212Z
LAST-MODIFIED:20240610T211212Z
UID:16740-1723622400-1723824000@mtcs.org
SUMMARY:New Staff Orientation
DESCRIPTION:
URL:https://mtcs.org/pease/calendar/new-staff-orientation-3/
END:VEVENT
BEGIN:VEVENT
DTSTART;TZID=America/Chicago:20240812T080000
DTEND;TZID=America/Chicago:20240812T170000
DTSTAMP:20260421T185413
CREATED:20240610T211139Z
LAST-MODIFIED:20240610T211139Z
UID:16738-1723449600-1723482000@mtcs.org
SUMMARY:Office Staff Returns
DESCRIPTION:
URL:https://mtcs.org/pease/calendar/office-staff-returns-5/
END:VEVENT
BEGIN:VEVENT
DTSTART;TZID=America/Chicago:20240613T080000
DTEND;TZID=America/Chicago:20240613T150000
DTSTAMP:20260421T185413
CREATED:20230215T163955Z
LAST-MODIFIED:20230215T163955Z
UID:16288-1718265600-1718290800@mtcs.org
SUMMARY:Staff Wrap Up--No School
DESCRIPTION:
URL:https://mtcs.org/pease/calendar/staff-wrap-up-no-school-2/
END:VEVENT
BEGIN:VEVENT
DTSTART;TZID=America/Chicago:20240612T183000
DTEND;TZID=America/Chicago:20240612T203000
DTSTAMP:20260421T185413
CREATED:20230215T163852Z
LAST-MODIFIED:20230215T163852Z
UID:16286-1718217000-1718224200@mtcs.org
SUMMARY:P.E.A.S.E. Academy Graduation
DESCRIPTION:601 13th Ave SE\nMinneapolis\, MN 55414
URL:https://mtcs.org/pease/calendar/p-e-a-s-e-academy-graduation-6/
END:VEVENT
BEGIN:VEVENT
DTSTART;TZID=America/Chicago:20240612T083000
DTEND;TZID=America/Chicago:20240612T153000
DTSTAMP:20260421T185413
CREATED:20230215T164037Z
LAST-MODIFIED:20230215T164037Z
UID:16290-1718181000-1718206200@mtcs.org
SUMMARY:Last Day of School
DESCRIPTION:
URL:https://mtcs.org/pease/calendar/last-day-of-school-4/
END:VEVENT
BEGIN:VEVENT
DTSTART;TZID=America/Chicago:20240611T083000
DTEND;TZID=America/Chicago:20240611T153000
DTSTAMP:20260421T185413
CREATED:20230215T164151Z
LAST-MODIFIED:20230215T164151Z
UID:16292-1718094600-1718119800@mtcs.org
SUMMARY:End of School Year Student Picnic
DESCRIPTION:
URL:https://mtcs.org/pease/calendar/end-of-school-year-student-picnic/
END:VEVENT
BEGIN:VEVENT
DTSTART;TZID=America/Chicago:20240527T080000
DTEND;TZID=America/Chicago:20240527T170000
DTSTAMP:20260421T185413
CREATED:20230215T172830Z
LAST-MODIFIED:20230215T172830Z
UID:16335-1716796800-1716829200@mtcs.org
SUMMARY:Memorial Day--No School
DESCRIPTION:
URL:https://mtcs.org/pease/calendar/memorial-day-no-school-8/
END:VEVENT
BEGIN:VEVENT
DTSTART;TZID=America/Chicago:20240510T080000
DTEND;TZID=America/Chicago:20240510T160000
DTSTAMP:20260421T185413
CREATED:20230215T172749Z
LAST-MODIFIED:20230215T172749Z
UID:16333-1715328000-1715356800@mtcs.org
SUMMARY:Staff Professional Development--No School
DESCRIPTION:
URL:https://mtcs.org/pease/calendar/staff-professional-development-no-school-7/
END:VEVENT
BEGIN:VEVENT
DTSTART;TZID=America/Chicago:20240510T063000
DTEND;TZID=America/Chicago:20240510T210000
DTSTAMP:20260421T185413
CREATED:20230215T164328Z
LAST-MODIFIED:20230215T164328Z
UID:16294-1715322600-1715374800@mtcs.org
SUMMARY:P.E.A.S.E. Prom--Off Site
DESCRIPTION:
URL:https://mtcs.org/pease/calendar/p-e-a-s-e-prom-off-site-5/
END:VEVENT
BEGIN:VEVENT
DTSTART;TZID=America/Chicago:20240502T180000
DTEND;TZID=America/Chicago:20240502T200000
DTSTAMP:20260421T185413
CREATED:20230215T163405Z
LAST-MODIFIED:20230215T163405Z
UID:16284-1714672800-1714680000@mtcs.org
SUMMARY:Parents of P.E.A.S.E.
DESCRIPTION:Monthly Parents of P.E.A.S.E. (POP) Counseling Session with our Licensed Alcohol and Drug Counselor. Meet with our LADC and other parents to discuss issues and garner support associated with raising teens in recovery.
URL:https://mtcs.org/pease/calendar/parents-of-p-e-a-s-e/
END:VEVENT
BEGIN:VEVENT
DTSTART;TZID=America/Chicago:20240411T080000
DTEND;TZID=America/Chicago:20240411T170000
DTSTAMP:20260421T185413
CREATED:20230215T173516Z
LAST-MODIFIED:20230215T173516Z
UID:16357-1712822400-1712854800@mtcs.org
SUMMARY:Start of Q4
DESCRIPTION:
URL:https://mtcs.org/pease/calendar/start-of-q4/
END:VEVENT
END:VCALENDAR