BEGIN:VCALENDAR
VERSION:2.0
PRODID:-//P.E.A.S.E. Academy - ECPv6.15.20//NONSGML v1.0//EN
CALSCALE:GREGORIAN
METHOD:PUBLISH
X-WR-CALNAME:P.E.A.S.E. Academy
X-ORIGINAL-URL:https://mtcs.org/pease
X-WR-CALDESC:Events for P.E.A.S.E. Academy
REFRESH-INTERVAL;VALUE=DURATION:PT1H
X-Robots-Tag:noindex
X-PUBLISHED-TTL:PT1H
BEGIN:VTIMEZONE
TZID:America/Chicago
BEGIN:DAYLIGHT
TZOFFSETFROM:-0600
TZOFFSETTO:-0500
TZNAME:CDT
DTSTART:20240310T080000
END:DAYLIGHT
BEGIN:STANDARD
TZOFFSETFROM:-0500
TZOFFSETTO:-0600
TZNAME:CST
DTSTART:20241103T070000
END:STANDARD
BEGIN:DAYLIGHT
TZOFFSETFROM:-0600
TZOFFSETTO:-0500
TZNAME:CDT
DTSTART:20250309T080000
END:DAYLIGHT
BEGIN:STANDARD
TZOFFSETFROM:-0500
TZOFFSETTO:-0600
TZNAME:CST
DTSTART:20251102T070000
END:STANDARD
BEGIN:DAYLIGHT
TZOFFSETFROM:-0600
TZOFFSETTO:-0500
TZNAME:CDT
DTSTART:20260308T080000
END:DAYLIGHT
BEGIN:STANDARD
TZOFFSETFROM:-0500
TZOFFSETTO:-0600
TZNAME:CST
DTSTART:20261101T070000
END:STANDARD
BEGIN:DAYLIGHT
TZOFFSETFROM:-0600
TZOFFSETTO:-0500
TZNAME:CDT
DTSTART:20270314T080000
END:DAYLIGHT
BEGIN:STANDARD
TZOFFSETFROM:-0500
TZOFFSETTO:-0600
TZNAME:CST
DTSTART:20271107T070000
END:STANDARD
END:VTIMEZONE
BEGIN:VEVENT
DTSTART;VALUE=DATE:20251222
DTEND;VALUE=DATE:20260103
DTSTAMP:20260421T124426
CREATED:20250326T185008Z
LAST-MODIFIED:20250326T185008Z
UID:16959-1766361600-1767398399@mtcs.org
SUMMARY:Winter Break--No School
DESCRIPTION:
URL:https://mtcs.org/pease/calendar/winter-break-no-school-10/
END:VEVENT
BEGIN:VEVENT
DTSTART;TZID=America/Chicago:20260105T080000
DTEND;TZID=America/Chicago:20260105T170000
DTSTAMP:20260421T124426
CREATED:20250326T185041Z
LAST-MODIFIED:20250326T185041Z
UID:16961-1767600000-1767632400@mtcs.org
SUMMARY:School Resumes
DESCRIPTION:8:30 a.m.
URL:https://mtcs.org/pease/calendar/school-resumes-7/
END:VEVENT
BEGIN:VEVENT
DTSTART;TZID=America/Chicago:20260106T180000
DTEND;TZID=America/Chicago:20260106T200000
DTSTAMP:20260421T124426
CREATED:20250326T144310Z
LAST-MODIFIED:20250326T144310Z
UID:16903-1767722400-1767729600@mtcs.org
SUMMARY:Parents of P.E.A.S.E. Support Group
DESCRIPTION:Monthly Parents of P.E.A.S.E. (POP) Counseling Session with our Licensed Therapist. Meet with our contracted Therapist and other parents to discuss issues and garner support associated with raising teens in recovery.
URL:https://mtcs.org/pease/calendar/parents-of-p-e-a-s-e-support-group-20/
END:VEVENT
BEGIN:VEVENT
DTSTART;TZID=America/Chicago:20260116T080000
DTEND;TZID=America/Chicago:20260116T170000
DTSTAMP:20260421T124426
CREATED:20250326T185117Z
LAST-MODIFIED:20250326T185117Z
UID:16963-1768550400-1768582800@mtcs.org
SUMMARY:End of Quarter 2
DESCRIPTION:
URL:https://mtcs.org/pease/calendar/end-of-quarter-2-6/
END:VEVENT
BEGIN:VEVENT
DTSTART;TZID=America/Chicago:20260119T080000
DTEND;TZID=America/Chicago:20260119T170000
DTSTAMP:20260421T124426
CREATED:20250326T185202Z
LAST-MODIFIED:20250326T185202Z
UID:16965-1768809600-1768842000@mtcs.org
SUMMARY:Dr. Martin Luther King Jr. Day--No School
DESCRIPTION:
URL:https://mtcs.org/pease/calendar/dr-martin-luther-king-jr-day-no-school-2/
END:VEVENT
BEGIN:VEVENT
DTSTART;TZID=America/Chicago:20260120T080000
DTEND;TZID=America/Chicago:20260120T170000
DTSTAMP:20260421T124426
CREATED:20250326T185238Z
LAST-MODIFIED:20250326T185238Z
UID:16967-1768896000-1768928400@mtcs.org
SUMMARY:Teacher Grading Day--No Students
DESCRIPTION:
URL:https://mtcs.org/pease/calendar/teacher-grading-day-no-students/
END:VEVENT
BEGIN:VEVENT
DTSTART;TZID=America/Chicago:20260121T080000
DTEND;TZID=America/Chicago:20260121T160000
DTSTAMP:20260421T124426
CREATED:20250326T145619Z
LAST-MODIFIED:20250326T145619Z
UID:16915-1768982400-1769011200@mtcs.org
SUMMARY:Professional Development--No Students
DESCRIPTION:
URL:https://mtcs.org/pease/calendar/professional-development-no-students-18/
END:VEVENT
BEGIN:VEVENT
DTSTART;TZID=America/Chicago:20260122T083000
DTEND;TZID=America/Chicago:20260122T152000
DTSTAMP:20260421T124426
CREATED:20250326T185323Z
LAST-MODIFIED:20250326T185323Z
UID:16969-1769070600-1769095200@mtcs.org
SUMMARY:Quarter 3 Starts
DESCRIPTION:
URL:https://mtcs.org/pease/calendar/quarter-3-starts-3/
END:VEVENT
END:VCALENDAR